BEGIN:VCALENDAR
VERSION:2.0
PRODID:-//Sabre//Sabre VObject 4.5.8//EN
CALSCALE:GREGORIAN
BEGIN:VEVENT
UID:sabre-vobject-f976d75c-4181-4c66-a36b-498a44ca0090
DTSTAMP:20260421T091601Z
SUMMARY:Alpen und Isar
DESCRIPTION:https://keb-unterallgaeu.de/alpen-und-isar_id318626
DTSTART;TZID=Europe/Berlin:20260620T080000
LOCATION:KEB im Bistum Augsburg\, Kornhausgasse 2\, 86152 Augsburg
END:VEVENT
END:VCALENDAR
