BEGIN:VCALENDAR
VERSION:2.0
PRODID:-//Sabre//Sabre VObject 4.5.8//EN
CALSCALE:GREGORIAN
BEGIN:VEVENT
UID:sabre-vobject-ea49967d-8c57-441e-8429-fcd8b1f74af1
DTSTAMP:20260421T094324Z
SUMMARY:Veränderung beginnt im Kopf - Online-Veranstaltung
DESCRIPTION:https://keb-unterallgaeu.de/veraenderung-beginnt-im-kopf-online
 -veranstaltung_id318603
DTSTART;TZID=Europe/Berlin:20260415T193000
LOCATION:Online
END:VEVENT
END:VCALENDAR
