BEGIN:VCALENDAR
VERSION:2.0
PRODID:-//Sabre//Sabre VObject 4.5.8//EN
CALSCALE:GREGORIAN
BEGIN:VEVENT
UID:sabre-vobject-a7698602-00b0-4797-b7ed-92a3ffefcce9
DTSTAMP:20260421T091611Z
SUMMARY:Mussenhausen und Memmingen
DESCRIPTION:https://keb-unterallgaeu.de/mussenhausen-und-memmingen_id318601
DTSTART;TZID=Europe/Berlin:20260414T083000
LOCATION:KEB im Bistum Augsburg\, Kornhausgasse 2\, 86152 Augsburg
END:VEVENT
END:VCALENDAR
