BEGIN:VCALENDAR
VERSION:2.0
PRODID:-//Sabre//Sabre VObject 4.5.8//EN
CALSCALE:GREGORIAN
BEGIN:VEVENT
UID:sabre-vobject-4aaee081-37a7-41c4-8c51-87f034b64628
DTSTAMP:20260421T092401Z
SUMMARY:Der Reichtum der Kunst
DESCRIPTION:https://keb-unterallgaeu.de/der-reichtum-der-kunst_id318595
DTSTART;TZID=Europe/Berlin:20260324T101500
LOCATION:Schaezlerpalais\, Maximilianstraße 46\, 86150 Augsburg
END:VEVENT
END:VCALENDAR
