BEGIN:VCALENDAR
VERSION:2.0
PRODID:-//Sabre//Sabre VObject 4.5.8//EN
CALSCALE:GREGORIAN
BEGIN:VEVENT
UID:sabre-vobject-3a47f3f8-beb7-4d22-a5c8-b6b8bf6a882c
DTSTAMP:20260421T091215Z
SUMMARY:Höhen und Tiefen des Menschseins
DESCRIPTION:https://keb-unterallgaeu.de/hoehen-und-tiefen-des-menschseins_i
 d318593
DTSTART;TZID=Europe/Berlin:20260319T193000
LOCATION:Haus Sankt Ulrich\, Kappelberg 1\, 86150 Augsburg
END:VEVENT
END:VCALENDAR
