BEGIN:VCALENDAR
VERSION:2.0
PRODID:-//Sabre//Sabre VObject 4.5.8//EN
CALSCALE:GREGORIAN
BEGIN:VEVENT
UID:sabre-vobject-388abb75-8c37-4c05-8b70-4b1d09be5086
DTSTAMP:20260424T040402Z
SUMMARY:"Durchkreuzt" -  Umgang mit schwierigen Lebenssituationen
DESCRIPTION:https://keb-unterallgaeu.de/durchkreuzt-umgang-mit-schwierigen-
 lebenssituationen_id287467
DTSTART;TZID=Europe/Berlin:20251106T190000
LOCATION:Caritas-Seniorenzentrum St. Georg\, Bürgermeister-Krach-Straße 4
 \, 87719 Mindelheim
END:VEVENT
END:VCALENDAR
