BEGIN:VCALENDAR
VERSION:2.0
PRODID:-//Sabre//Sabre VObject 4.5.8//EN
CALSCALE:GREGORIAN
BEGIN:VEVENT
UID:sabre-vobject-b2faee36-bd6c-445c-92af-6067c8a63044
DTSTAMP:20260421T091916Z
SUMMARY:Sitztanz - gesunde Bewegung mit Musik
DESCRIPTION:https://keb-unterallgaeu.de/sitztanz-gesunde-bewegung-mit-musik
 _id275327
DTSTART;TZID=Europe/Berlin:20250526T100000
LOCATION:Zeppelinweg\, Zeppelinweg 13\, 87719 Mindelheim
END:VEVENT
END:VCALENDAR
