BEGIN:VCALENDAR
VERSION:2.0
PRODID:-//Sabre//Sabre VObject 4.5.8//EN
CALSCALE:GREGORIAN
BEGIN:VEVENT
UID:sabre-vobject-749f1462-9d15-4fab-be8b-3b872a97a897
DTSTAMP:20260423T192119Z
SUMMARY:Eltern-Kind-Gruppe - Dienstag vormittag
DESCRIPTION:https://keb-unterallgaeu.de/eltern-kind-gruppe-dienstag-vormitt
 ag_id173106
DTSTART;TZID=Europe/Berlin:20230321T090000
DTEND;TZID=Europe/Berlin:20230321T110000
LOCATION:Pfarrheim Illerbeuren\, Schlottergasse 2\, 87758 Kronburg
END:VEVENT
END:VCALENDAR
